Workbook

Sheet Invoices
A1: CONSULTANT INVOICE TRACKER
A2: Free template by myinvoicetemplate.com — one row per invoice. Balance, days overdue and status calculate; TODAY() updates each time the file opens.
A3: Total invoiced | C3: =SUM(F7:F106) | D3: Paid | F3: =SUM(G7:G106)
A4: Outstanding | C4: =SUM(H7:H106) | D4: Overdue | F4: =SUMIF(J7:J106,"Overdue",H7:H106)
A6: Invoice no. | B6: Client | C6: Project / description | D6: Invoice date | E6: Due date | F6: Amount | G6: Paid to date | H6: Balance | I6: Days overdue | J6: Status
H7: =IF(F7="","",F7-N(G7)) | I7: =IF(OR(F7="",E7=""),"",IF(H7<=0,"",MAX(0,TODAY()-E7))) | J7: =IF(F7="","",IF(H7<=0,"Paid",IF(AND(E7<>"",TODAY()>E7),"Overdue","Open")))
H8: =IF(F8="","",F8-N(G8)) | I8: =IF(OR(F8="",E8=""),"",IF(H8<=0,"",MAX(0,TODAY()-E8))) | J8: =IF(F8="","",IF(H8<=0,"Paid",IF(AND(E8<>"",TODAY()>E8),"Overdue","Open")))
H9: =IF(F9="","",F9-N(G9)) | I9: =IF(OR(F9="",E9=""),"",IF(H9<=0,"",MAX(0,TODAY()-E9))) | J9: =IF(F9="","",IF(H9<=0,"Paid",IF(AND(E9<>"",TODAY()>E9),"Overdue","Open")))
H10: =IF(F10="","",F10-N(G10)) | I10: =IF(OR(F10="",E10=""),"",IF(H10<=0,"",MAX(0,TODAY()-E10))) | J10: =IF(F10="","",IF(H10<=0,"Paid",IF(AND(E10<>"",TODAY()>E10),"Overdue","Open")))
H11: =IF(F11="","",F11-N(G11)) | I11: =IF(OR(F11="",E11=""),"",IF(H11<=0,"",MAX(0,TODAY()-E11))) | J11: =IF(F11="","",IF(H11<=0,"Paid",IF(AND(E11<>"",TODAY()>E11),"Overdue","Open")))
H12: =IF(F12="","",F12-N(G12)) | I12: =IF(OR(F12="",E12=""),"",IF(H12<=0,"",MAX(0,TODAY()-E12))) | J12: =IF(F12="","",IF(H12<=0,"Paid",IF(AND(E12<>"",TODAY()>E12),"Overdue","Open")))
H13: =IF(F13="","",F13-N(G13)) | I13: =IF(OR(F13="",E13=""),"",IF(H13<=0,"",MAX(0,TODAY()-E13))) | J13: =IF(F13="","",IF(H13<=0,"Paid",IF(AND(E13<>"",TODAY()>E13),"Overdue","Open")))
H14: =IF(F14="","",F14-N(G14)) | I14: =IF(OR(F14="",E14=""),"",IF(H14<=0,"",MAX(0,TODAY()-E14))) | J14: =IF(F14="","",IF(H14<=0,"Paid",IF(AND(E14<>"",TODAY()>E14),"Overdue","Open")))
H15: =IF(F15="","",F15-N(G15)) | I15: =IF(OR(F15="",E15=""),"",IF(H15<=0,"",MAX(0,TODAY()-E15))) | J15: =IF(F15="","",IF(H15<=0,"Paid",IF(AND(E15<>"",TODAY()>E15),"Overdue","Open")))
H16: =IF(F16="","",F16-N(G16)) | I16: =IF(OR(F16="",E16=""),"",IF(H16<=0,"",MAX(0,TODAY()-E16))) | J16: =IF(F16="","",IF(H16<=0,"Paid",IF(AND(E16<>"",TODAY()>E16),"Overdue","Open")))
H17: =IF(F17="","",F17-N(G17)) | I17: =IF(OR(F17="",E17=""),"",IF(H17<=0,"",MAX(0,TODAY()-E17))) | J17: =IF(F17="","",IF(H17<=0,"Paid",IF(AND(E17<>"",TODAY()>E17),"Overdue","Open")))
H18: =IF(F18="","",F18-N(G18)) | I18: =IF(OR(F18="",E18=""),"",IF(H18<=0,"",MAX(0,TODAY()-E18))) | J18: =IF(F18="","",IF(H18<=0,"Paid",IF(AND(E18<>"",TODAY()>E18),"Overdue","Open")))
... H106: =IF(F106="","",F106-N(G106)) | I106: =IF(OR(F106="",E106=""),"",IF(H106<=0,"",MAX(0,TODAY()-E106))) | J106: =IF(F106="","",IF(H106<=0,"Paid",IF(AND(E106<>"",TODAY()>E106),"Overdue","Open")))

Sheet By client
A1: TOTALS BY CLIENT
A2: Type each client name exactly as on the Invoices sheet; the totals use SUMIF / SUMIFS.
A4: Client | B4: Invoiced | C4: Paid | D4: Balance | E4: Overdue balance
B5: =IF(A5="","",SUMIF(Invoices!$B$7:$B$106,A5,Invoices!$F$7:$F$106)) | C5: =IF(A5="","",SUMIF(Invoices!$B$7:$B$106,A5,Invoices!$G$7:$G$106)) | D5: =IF(A5="","",SUMIF(Invoices!$B$7:$B$106,A5,Invoices!$H$7:$H$106)) | E5: =IF(A5="","",SUMIFS(Invoices!$H$7:$H$106,Invoices!$B$7:$B$106,A5,Invoices!$J$7:$J$106,"Overdue"))
B6: =IF(A6="","",SUMIF(Invoices!$B$7:$B$106,A6,Invoices!$F$7:$F$106)) | C6: =IF(A6="","",SUMIF(Invoices!$B$7:$B$106,A6,Invoices!$G$7:$G$106)) | D6: =IF(A6="","",SUMIF(Invoices!$B$7:$B$106,A6,Invoices!$H$7:$H$106)) | E6: =IF(A6="","",SUMIFS(Invoices!$H$7:$H$106,Invoices!$B$7:$B$106,A6,Invoices!$J$7:$J$106,"Overdue"))
B7: =IF(A7="","",SUMIF(Invoices!$B$7:$B$106,A7,Invoices!$F$7:$F$106)) | C7: =IF(A7="","",SUMIF(Invoices!$B$7:$B$106,A7,Invoices!$G$7:$G$106)) | D7: =IF(A7="","",SUMIF(Invoices!$B$7:$B$106,A7,Invoices!$H$7:$H$106)) | E7: =IF(A7="","",SUMIFS(Invoices!$H$7:$H$106,Invoices!$B$7:$B$106,A7,Invoices!$J$7:$J$106,"Overdue"))
B8: =IF(A8="","",SUMIF(Invoices!$B$7:$B$106,A8,Invoices!$F$7:$F$106)) | C8: =IF(A8="","",SUMIF(Invoices!$B$7:$B$106,A8,Invoices!$G$7:$G$106)) | D8: =IF(A8="","",SUMIF(Invoices!$B$7:$B$106,A8,Invoices!$H$7:$H$106)) | E8: =IF(A8="","",SUMIFS(Invoices!$H$7:$H$106,Invoices!$B$7:$B$106,A8,Invoices!$J$7:$J$106,"Overdue"))
B9: =IF(A9="","",SUMIF(Invoices!$B$7:$B$106,A9,Invoices!$F$7:$F$106)) | C9: =IF(A9="","",SUMIF(Invoices!$B$7:$B$106,A9,Invoices!$G$7:$G$106)) | D9: =IF(A9="","",SUMIF(Invoices!$B$7:$B$106,A9,Invoices!$H$7:$H$106)) | E9: =IF(A9="","",SUMIFS(Invoices!$H$7:$H$106,Invoices!$B$7:$B$106,A9,Invoices!$J$7:$J$106,"Overdue"))
B10: =IF(A10="","",SUMIF(Invoices!$B$7:$B$106,A10,Invoices!$F$7:$F$106)) | C10: =IF(A10="","",SUMIF(Invoices!$B$7:$B$106,A10,Invoices!$G$7:$G$106)) | D10: =IF(A10="","",SUMIF(Invoices!$B$7:$B$106,A10,Invoices!$H$7:$H$106)) | E10: =IF(A10="","",SUMIFS(Invoices!$H$7:$H$106,Invoices!$B$7:$B$106,A10,Invoices!$J$7:$J$106,"Overdue"))
B11: =IF(A11="","",SUMIF(Invoices!$B$7:$B$106,A11,Invoices!$F$7:$F$106)) | C11: =IF(A11="","",SUMIF(Invoices!$B$7:$B$106,A11,Invoices!$G$7:$G$106)) | D11: =IF(A11="","",SUMIF(Invoices!$B$7:$B$106,A11,Invoices!$H$7:$H$106)) | E11: =IF(A11="","",SUMIFS(Invoices!$H$7:$H$106,Invoices!$B$7:$B$106,A11,Invoices!$J$7:$J$106,"Overdue"))
B12: =IF(A12="","",SUMIF(Invoices!$B$7:$B$106,A12,Invoices!$F$7:$F$106)) | C12: =IF(A12="","",SUMIF(Invoices!$B$7:$B$106,A12,Invoices!$G$7:$G$106)) | D12: =IF(A12="","",SUMIF(Invoices!$B$7:$B$106,A12,Invoices!$H$7:$H$106)) | E12: =IF(A12="","",SUMIFS(Invoices!$H$7:$H$106,Invoices!$B$7:$B$106,A12,Invoices!$J$7:$J$106,"Overdue"))
B13: =IF(A13="","",SUMIF(Invoices!$B$7:$B$106,A13,Invoices!$F$7:$F$106)) | C13: =IF(A13="","",SUMIF(Invoices!$B$7:$B$106,A13,Invoices!$G$7:$G$106)) | D13: =IF(A13="","",SUMIF(Invoices!$B$7:$B$106,A13,Invoices!$H$7:$H$106)) | E13: =IF(A13="","",SUMIFS(Invoices!$H$7:$H$106,Invoices!$B$7:$B$106,A13,Invoices!$J$7:$J$106,"Overdue"))
B14: =IF(A14="","",SUMIF(Invoices!$B$7:$B$106,A14,Invoices!$F$7:$F$106)) | C14: =IF(A14="","",SUMIF(Invoices!$B$7:$B$106,A14,Invoices!$G$7:$G$106)) | D14: =IF(A14="","",SUMIF(Invoices!$B$7:$B$106,A14,Invoices!$H$7:$H$106)) | E14: =IF(A14="","",SUMIFS(Invoices!$H$7:$H$106,Invoices!$B$7:$B$106,A14,Invoices!$J$7:$J$106,"Overdue"))
B15: =IF(A15="","",SUMIF(Invoices!$B$7:$B$106,A15,Invoices!$F$7:$F$106)) | C15: =IF(A15="","",SUMIF(Invoices!$B$7:$B$106,A15,Invoices!$G$7:$G$106)) | D15: =IF(A15="","",SUMIF(Invoices!$B$7:$B$106,A15,Invoices!$H$7:$H$106)) | E15: =IF(A15="","",SUMIFS(Invoices!$H$7:$H$106,Invoices!$B$7:$B$106,A15,Invoices!$J$7:$J$106,"Overdue"))
B16: =IF(A16="","",SUMIF(Invoices!$B$7:$B$106,A16,Invoices!$F$7:$F$106)) | C16: =IF(A16="","",SUMIF(Invoices!$B$7:$B$106,A16,Invoices!$G$7:$G$106)) | D16: =IF(A16="","",SUMIF(Invoices!$B$7:$B$106,A16,Invoices!$H$7:$H$106)) | E16: =IF(A16="","",SUMIFS(Invoices!$H$7:$H$106,Invoices!$B$7:$B$106,A16,Invoices!$J$7:$J$106,"Overdue"))
... B29: =IF(A29="","",SUMIF(Invoices!$B$7:$B$106,A29,Invoices!$F$7:$F$106)) | C29: =IF(A29="","",SUMIF(Invoices!$B$7:$B$106,A29,Invoices!$G$7:$G$106)) | D29: =IF(A29="","",SUMIF(Invoices!$B$7:$B$106,A29,Invoices!$H$7:$H$106)) | E29: =IF(A29="","",SUMIFS(Invoices!$H$7:$H$106,Invoices!$B$7:$B$106,A29,Invoices!$J$7:$J$106,"Overdue"))
